Package: M3C Version: 1.28.0 Command: /home/biocbuild/bbs-3.20-bioc/R/bin/R CMD INSTALL M3C StartedAt: 2025-02-03 15:19:16 -0500 (Mon, 03 Feb 2025) EndedAt: 2025-02-03 15:19:24 -0500 (Mon, 03 Feb 2025) EllapsedTime: 7.9 seconds RetCode: 0 Status: OK