Package: M3C Version: 1.28.0 Command: /Library/Frameworks/R.framework/Resources/bin/R CMD build --keep-empty-dirs --no-resave-data M3C StartedAt: 2025-01-27 20:05:19 -0500 (Mon, 27 Jan 2025) EndedAt: 2025-01-27 20:07:19 -0500 (Mon, 27 Jan 2025) EllapsedTime: 119.8 seconds RetCode: 0 Status: OK PackageFile: M3C_1.28.0.tar.gz PackageFileSize: 588.7 KiB