Package: M3C Version: 1.28.0 Command: /Library/Frameworks/R.framework/Resources/bin/R CMD build --keep-empty-dirs --no-resave-data M3C StartedAt: 2025-01-28 02:19:28 -0500 (Tue, 28 Jan 2025) EndedAt: 2025-01-28 02:20:25 -0500 (Tue, 28 Jan 2025) EllapsedTime: 56.2 seconds RetCode: 0 Status: OK PackageFile: M3C_1.28.0.tar.gz PackageFileSize: 588.7 KiB