Package: LymphoSeq Version: 1.34.0 Command: F:\biocbuild\bbs-3.20-bioc\R\bin\R.exe CMD INSTALL LymphoSeq StartedAt: 2025-03-31 15:51:24 -0400 (Mon, 31 Mar 2025) EndedAt: 2025-03-31 15:52:07 -0400 (Mon, 31 Mar 2025) EllapsedTime: 43.5 seconds RetCode: 0 Status: OK