Package: LymphoSeq Version: 1.34.0 Command: /home/biocbuild/bbs-3.20-bioc/R/bin/R CMD build --keep-empty-dirs --no-resave-data --md5 LymphoSeq StartedAt: 2025-02-03 18:00:59 -0500 (Mon, 03 Feb 2025) EndedAt: 2025-02-03 18:01:55 -0500 (Mon, 03 Feb 2025) EllapsedTime: 56.1 seconds RetCode: 0 Status: OK PackageFile: LymphoSeq_1.34.0.tar.gz PackageFileSize: 2.242 MiB