Package: LymphoSeq Version: 1.34.0 Command: /Library/Frameworks/R.framework/Resources/bin/R CMD build --keep-empty-dirs --no-resave-data LymphoSeq StartedAt: 2024-11-08 17:54:27 -0500 (Fri, 08 Nov 2024) EndedAt: 2024-11-08 17:54:54 -0500 (Fri, 08 Nov 2024) EllapsedTime: 27.3 seconds RetCode: 0 Status: OK PackageFile: LymphoSeq_1.34.0.tar.gz PackageFileSize: 2.359 MiB