Package: LoomExperiment Version: 1.24.0 Command: /Library/Frameworks/R.framework/Resources/bin/R CMD INSTALL LoomExperiment StartedAt: 2025-03-31 15:27:30 -0400 (Mon, 31 Mar 2025) EndedAt: 2025-03-31 15:28:02 -0400 (Mon, 31 Mar 2025) EllapsedTime: 31.7 seconds RetCode: 0 Status: OK