Package: LiquidAssociation Version: 1.60.0 Command: chmod a+r LiquidAssociation -R && F:\biocbuild\bbs-3.20-bioc\R\bin\R.exe CMD build --keep-empty-dirs --no-resave-data LiquidAssociation StartedAt: 2025-01-27 19:49:03 -0500 (Mon, 27 Jan 2025) EndedAt: 2025-01-27 19:49:57 -0500 (Mon, 27 Jan 2025) EllapsedTime: 54.0 seconds RetCode: 0 Status: OK PackageFile: LiquidAssociation_1.60.0.tar.gz PackageFileSize: 174.2 KiB