Package: LiquidAssociation Version: 1.60.0 Command: rm -rf LiquidAssociation.buildbin-libdir && mkdir LiquidAssociation.buildbin-libdir && /Users/biocbuild/BBS/utils/build-universal.sh LiquidAssociation_1.60.0.tar.gz /Library/Frameworks/R.framework/Resources/bin/R LiquidAssociation.buildbin-libdir StartedAt: 2025-04-01 12:08:40 -0400 (Tue, 01 Apr 2025) EndedAt: 2025-04-01 12:09:14 -0400 (Tue, 01 Apr 2025) EllapsedTime: 33.8 seconds RetCode: 0 Status: OK PackageFile: LiquidAssociation_1.60.0.tgz PackageFileSize: 503 KiB