Package: LiquidAssociation Version: 1.60.0 Command: rm -rf LiquidAssociation.buildbin-libdir && mkdir LiquidAssociation.buildbin-libdir && /Users/biocbuild/BBS/utils/build-universal.sh LiquidAssociation_1.60.0.tar.gz /Library/Frameworks/R.framework/Resources/bin/R LiquidAssociation.buildbin-libdir StartedAt: 2024-11-20 04:34:07 -0500 (Wed, 20 Nov 2024) EndedAt: 2024-11-20 04:34:31 -0500 (Wed, 20 Nov 2024) EllapsedTime: 24.1 seconds RetCode: 0 Status: OK PackageFile: LiquidAssociation_1.60.0.tgz PackageFileSize: 499.5 KiB