Package: LiquidAssociation Version: 1.60.0 Command: /home/biocbuild/R/R/bin/R CMD INSTALL LiquidAssociation StartedAt: 2024-11-19 20:42:55 -0000 (Tue, 19 Nov 2024) EndedAt: 2024-11-19 20:43:16 -0000 (Tue, 19 Nov 2024) EllapsedTime: 21.2 seconds RetCode: 0 Status: OK