Package: LiquidAssociation Version: 1.60.0 Command: /Library/Frameworks/R.framework/Resources/bin/R CMD INSTALL LiquidAssociation StartedAt: 2025-01-27 15:42:13 -0500 (Mon, 27 Jan 2025) EndedAt: 2025-01-27 15:42:31 -0500 (Mon, 27 Jan 2025) EllapsedTime: 17.6 seconds RetCode: 0 Status: OK