Package: LiquidAssociation Version: 1.60.0 Command: /Library/Frameworks/R.framework/Resources/bin/R CMD check --install=check:LiquidAssociation.install-out.txt --library=/Library/Frameworks/R.framework/Resources/library --no-vignettes --timings LiquidAssociation_1.60.0.tar.gz StartedAt: 2025-02-05 00:01:48 -0500 (Wed, 05 Feb 2025) EndedAt: 2025-02-05 00:07:24 -0500 (Wed, 05 Feb 2025) EllapsedTime: 336.0 seconds RetCode: 0 Status: OK CheckDir: LiquidAssociation.Rcheck Warnings: 0