Package: Linnorm Version: 2.30.0 Command: /home/biocbuild/bbs-3.20-bioc/R/bin/R CMD build --keep-empty-dirs --no-resave-data --md5 Linnorm StartedAt: 2025-03-31 17:48:57 -0400 (Mon, 31 Mar 2025) EndedAt: 2025-03-31 17:52:42 -0400 (Mon, 31 Mar 2025) EllapsedTime: 225.3 seconds RetCode: 0 Status: OK PackageFile: Linnorm_2.30.0.tar.gz PackageFileSize: 4.111 MiB