Package: Linnorm Version: 2.30.0 Command: /Library/Frameworks/R.framework/Resources/bin/R CMD INSTALL Linnorm StartedAt: 2025-03-31 15:12:11 -0400 (Mon, 31 Mar 2025) EndedAt: 2025-03-31 15:12:53 -0400 (Mon, 31 Mar 2025) EllapsedTime: 41.8 seconds RetCode: 0 Status: OK