Package: Linnorm Version: 2.30.0 Command: /home/biocbuild/R/R/bin/R CMD INSTALL Linnorm StartedAt: 2024-11-19 20:34:45 -0000 (Tue, 19 Nov 2024) EndedAt: 2024-11-19 20:35:24 -0000 (Tue, 19 Nov 2024) EllapsedTime: 39.2 seconds RetCode: 0 Status: OK