Package: LinkHD Version: 1.20.0 Command: /home/biocbuild/R/R/bin/R CMD INSTALL LinkHD StartedAt: 2025-01-27 22:01:55 -0000 (Mon, 27 Jan 2025) EndedAt: 2025-01-27 22:02:30 -0000 (Mon, 27 Jan 2025) EllapsedTime: 35.8 seconds RetCode: 0 Status: OK