Package: LinkHD Version: 1.20.0 Command: /home/biocbuild/R/R/bin/R CMD check --install=check:LinkHD.install-out.txt --library=/home/biocbuild/R/R/site-library --no-vignettes --timings LinkHD_1.20.0.tar.gz StartedAt: 2025-02-04 08:19:48 -0000 (Tue, 04 Feb 2025) EndedAt: 2025-02-04 08:23:45 -0000 (Tue, 04 Feb 2025) EllapsedTime: 237.5 seconds RetCode: 0 Status: OK CheckDir: LinkHD.Rcheck Warnings: 0