Package: LinkHD Version: 1.20.0 Command: /Library/Frameworks/R.framework/Resources/bin/R CMD INSTALL LinkHD StartedAt: 2025-01-27 16:45:29 -0500 (Mon, 27 Jan 2025) EndedAt: 2025-01-27 16:46:27 -0500 (Mon, 27 Jan 2025) EllapsedTime: 58.2 seconds RetCode: 0 Status: OK