Package: LinkHD Version: 1.20.0 Command: rm -rf LinkHD.buildbin-libdir && mkdir LinkHD.buildbin-libdir && /Users/biocbuild/BBS/utils/build-universal.sh LinkHD_1.20.0.tar.gz /Library/Frameworks/R.framework/Resources/bin/R LinkHD.buildbin-libdir StartedAt: 2025-01-28 13:32:39 -0500 (Tue, 28 Jan 2025) EndedAt: 2025-01-28 13:34:22 -0500 (Tue, 28 Jan 2025) EllapsedTime: 103.4 seconds RetCode: 0 Status: OK PackageFile: LinkHD_1.20.0.tgz PackageFileSize: 2.085 MiB