Package: LinkHD Version: 1.20.0 Command: /Library/Frameworks/R.framework/Resources/bin/R CMD INSTALL LinkHD StartedAt: 2025-02-03 18:10:46 -0500 (Mon, 03 Feb 2025) EndedAt: 2025-02-03 18:11:18 -0500 (Mon, 03 Feb 2025) EllapsedTime: 32.2 seconds RetCode: 0 Status: OK