Package: LinTInd Version: 1.10.0 Command: /home/biocbuild/R/R/bin/R CMD check --install=check:LinTInd.install-out.txt --library=/home/biocbuild/R/R/site-library --no-vignettes --timings LinTInd_1.10.0.tar.gz StartedAt: 2025-01-28 08:26:30 -0000 (Tue, 28 Jan 2025) EndedAt: 2025-01-28 08:29:01 -0000 (Tue, 28 Jan 2025) EllapsedTime: 151.2 seconds RetCode: 0 Status: OK CheckDir: LinTInd.Rcheck Warnings: 0