Package: LinTInd Version: 1.10.0 Command: /Library/Frameworks/R.framework/Resources/bin/R CMD check --install=check:LinTInd.install-out.txt --library=/Library/Frameworks/R.framework/Resources/library --no-vignettes --timings LinTInd_1.10.0.tar.gz StartedAt: 2025-04-01 04:56:26 -0400 (Tue, 01 Apr 2025) EndedAt: 2025-04-01 05:01:04 -0400 (Tue, 01 Apr 2025) EllapsedTime: 277.3 seconds RetCode: 0 Status: OK CheckDir: LinTInd.Rcheck Warnings: 0