Package: LinTInd Version: 1.10.0 Command: rm -rf LinTInd.buildbin-libdir && mkdir LinTInd.buildbin-libdir && /Users/biocbuild/BBS/utils/build-universal.sh LinTInd_1.10.0.tar.gz /Library/Frameworks/R.framework/Resources/bin/R LinTInd.buildbin-libdir StartedAt: 2025-04-01 12:08:38 -0400 (Tue, 01 Apr 2025) EndedAt: 2025-04-01 12:09:16 -0400 (Tue, 01 Apr 2025) EllapsedTime: 38.3 seconds RetCode: 0 Status: OK PackageFile: LinTInd_1.10.0.tgz PackageFileSize: 694.3 KiB