Package: LRcell Version: 1.14.0 Command: chmod a+r LRcell -R && F:\biocbuild\bbs-3.20-bioc\R\bin\R.exe CMD build --keep-empty-dirs --no-resave-data LRcell StartedAt: 2025-02-03 20:04:42 -0500 (Mon, 03 Feb 2025) EndedAt: 2025-02-03 20:06:17 -0500 (Mon, 03 Feb 2025) EllapsedTime: 94.4 seconds RetCode: 0 Status: OK PackageFile: LRcell_1.14.0.tar.gz PackageFileSize: 685.8 KiB