Package: LRcell Version: 1.14.0 Command: /home/biocbuild/bbs-3.20-bioc/R/bin/R CMD INSTALL LRcell StartedAt: 2025-02-03 15:28:25 -0500 (Mon, 03 Feb 2025) EndedAt: 2025-02-03 15:28:40 -0500 (Mon, 03 Feb 2025) EllapsedTime: 15.8 seconds RetCode: 0 Status: OK