Package: LRcell Version: 1.14.0 Command: /Library/Frameworks/R.framework/Resources/bin/R CMD build --keep-empty-dirs --no-resave-data LRcell StartedAt: 2025-02-11 02:25:33 -0500 (Tue, 11 Feb 2025) EndedAt: 2025-02-11 02:26:49 -0500 (Tue, 11 Feb 2025) EllapsedTime: 75.2 seconds RetCode: 0 Status: OK PackageFile: LRcell_1.14.0.tar.gz PackageFileSize: 1.036 MiB