Package: LRBaseDbi Version: 2.16.0 Command: /home/biocbuild/R/R/bin/R CMD check --install=check:LRBaseDbi.install-out.txt --library=/home/biocbuild/R/R/site-library --no-vignettes --timings LRBaseDbi_2.16.0.tar.gz StartedAt: 2025-02-04 08:22:16 -0000 (Tue, 04 Feb 2025) EndedAt: 2025-02-04 08:24:14 -0000 (Tue, 04 Feb 2025) EllapsedTime: 118.3 seconds RetCode: 0 Status: OK CheckDir: LRBaseDbi.Rcheck Warnings: 0