Package: LRBaseDbi Version: 2.16.0 Command: /home/biocbuild/R/R/bin/R CMD build --keep-empty-dirs --no-resave-data LRBaseDbi StartedAt: 2025-02-04 00:35:53 -0000 (Tue, 04 Feb 2025) EndedAt: 2025-02-04 00:36:29 -0000 (Tue, 04 Feb 2025) EllapsedTime: 36.0 seconds RetCode: 0 Status: OK PackageFile: LRBaseDbi_2.16.0.tar.gz PackageFileSize: 139.1 KiB