Package: LRBaseDbi Version: 2.16.0 Command: rm -rf LRBaseDbi.buildbin-libdir && mkdir LRBaseDbi.buildbin-libdir && /Users/biocbuild/BBS/utils/build-universal.sh LRBaseDbi_2.16.0.tar.gz /Library/Frameworks/R.framework/Resources/bin/R LRBaseDbi.buildbin-libdir StartedAt: 2025-02-12 15:40:38 -0500 (Wed, 12 Feb 2025) EndedAt: 2025-02-12 15:40:54 -0500 (Wed, 12 Feb 2025) EllapsedTime: 16.0 seconds RetCode: 0 Status: OK PackageFile: LRBaseDbi_2.16.0.tgz PackageFileSize: 566.9 KiB