Package: LPE Version: 1.80.0 Command: F:\biocbuild\bbs-3.20-bioc\R\bin\R.exe CMD check --no-multiarch --install=check:LPE.install-out.txt --library=F:\biocbuild\bbs-3.20-bioc\R\library --no-vignettes --timings LPE_1.80.0.tar.gz StartedAt: 2025-01-31 03:25:56 -0500 (Fri, 31 Jan 2025) EndedAt: 2025-01-31 03:26:36 -0500 (Fri, 31 Jan 2025) EllapsedTime: 39.5 seconds RetCode: 0 Status: OK CheckDir: LPE.Rcheck Warnings: 0