Package: LPE Version: 1.80.0 Command: chmod a+r LPE -R && F:\biocbuild\bbs-3.20-bioc\R\bin\R.exe CMD build --keep-empty-dirs --no-resave-data LPE StartedAt: 2025-01-30 19:49:59 -0500 (Thu, 30 Jan 2025) EndedAt: 2025-01-30 19:50:15 -0500 (Thu, 30 Jan 2025) EllapsedTime: 16.8 seconds RetCode: 0 Status: OK PackageFile: LPE_1.80.0.tar.gz PackageFileSize: 294.9 KiB