Package: LPE Version: 1.80.0 Command: /Library/Frameworks/R.framework/Resources/bin/R CMD build --keep-empty-dirs --no-resave-data LPE StartedAt: 2025-01-31 02:18:39 -0500 (Fri, 31 Jan 2025) EndedAt: 2025-01-31 02:18:53 -0500 (Fri, 31 Jan 2025) EllapsedTime: 13.7 seconds RetCode: 0 Status: OK PackageFile: LPE_1.80.0.tar.gz PackageFileSize: 436.9 KiB