Package: LOLA Version: 1.36.0 Command: /Library/Frameworks/R.framework/Resources/bin/R CMD build --keep-empty-dirs --no-resave-data LOLA StartedAt: 2025-03-31 19:42:43 -0400 (Mon, 31 Mar 2025) EndedAt: 2025-03-31 19:43:27 -0400 (Mon, 31 Mar 2025) EllapsedTime: 44.0 seconds RetCode: 0 Status: OK PackageFile: LOLA_1.36.0.tar.gz PackageFileSize: 1.11 MiB