Package: LOLA Version: 1.36.0 Command: /Library/Frameworks/R.framework/Resources/bin/R CMD build --keep-empty-dirs --no-resave-data LOLA StartedAt: 2025-02-04 02:20:19 -0500 (Tue, 04 Feb 2025) EndedAt: 2025-02-04 02:20:46 -0500 (Tue, 04 Feb 2025) EllapsedTime: 27.3 seconds RetCode: 0 Status: OK PackageFile: LOLA_1.36.0.tar.gz PackageFileSize: 1.11 MiB