Package: LOBSTAHS Version: 1.32.0 Command: /home/biocbuild/R/R/bin/R CMD INSTALL LOBSTAHS StartedAt: 2025-03-31 20:55:48 -0000 (Mon, 31 Mar 2025) EndedAt: 2025-03-31 20:56:48 -0000 (Mon, 31 Mar 2025) EllapsedTime: 59.2 seconds RetCode: 0 Status: OK