Package: LOBSTAHS Version: 1.32.0 Command: rm -rf LOBSTAHS.buildbin-libdir && mkdir LOBSTAHS.buildbin-libdir && /Users/biocbuild/BBS/utils/build-universal.sh LOBSTAHS_1.32.0.tar.gz /Library/Frameworks/R.framework/Resources/bin/R LOBSTAHS.buildbin-libdir StartedAt: 2025-04-01 12:08:49 -0400 (Tue, 01 Apr 2025) EndedAt: 2025-04-01 12:10:28 -0400 (Tue, 01 Apr 2025) EllapsedTime: 99.2 seconds RetCode: 0 Status: OK PackageFile: LOBSTAHS_1.32.0.tgz PackageFileSize: 1.999 MiB