Package: LACE Version: 2.10.0 Command: /home/biocbuild/R/R/bin/R CMD INSTALL LACE StartedAt: 2025-02-03 21:01:16 -0000 (Mon, 03 Feb 2025) EndedAt: 2025-02-03 21:01:57 -0000 (Mon, 03 Feb 2025) EllapsedTime: 40.7 seconds RetCode: 0 Status: OK