Package: LACE Version: 2.10.0 Command: /home/biocbuild/R/R/bin/R CMD check --install=check:LACE.install-out.txt --library=/home/biocbuild/R/R/site-library --no-vignettes --timings LACE_2.10.0.tar.gz StartedAt: 2025-04-01 07:47:30 -0000 (Tue, 01 Apr 2025) EndedAt: 2025-04-01 07:51:44 -0000 (Tue, 01 Apr 2025) EllapsedTime: 253.3 seconds RetCode: 0 Status: OK CheckDir: LACE.Rcheck Warnings: 0