Package: LACE Version: 2.10.0 Command: /home/biocbuild/R/R/bin/R CMD build --keep-empty-dirs --no-resave-data LACE StartedAt: 2025-04-01 00:26:04 -0000 (Tue, 01 Apr 2025) EndedAt: 2025-04-01 00:27:07 -0000 (Tue, 01 Apr 2025) EllapsedTime: 63.0 seconds RetCode: 0 Status: OK PackageFile: LACE_2.10.0.tar.gz PackageFileSize: 4.146 MiB