Package: LACE Version: 2.10.0 Command: rm -rf LACE.buildbin-libdir && mkdir LACE.buildbin-libdir && /Users/biocbuild/BBS/utils/build-universal.sh LACE_2.10.0.tar.gz /Library/Frameworks/R.framework/Resources/bin/R LACE.buildbin-libdir StartedAt: 2025-04-01 12:07:57 -0400 (Tue, 01 Apr 2025) EndedAt: 2025-04-01 12:09:11 -0400 (Tue, 01 Apr 2025) EllapsedTime: 73.6 seconds RetCode: 0 Status: OK PackageFile: LACE_2.10.0.tgz PackageFileSize: 3.044 MiB