Package: KnowSeq Version: 1.20.0 Command: /Library/Frameworks/R.framework/Resources/bin/R CMD INSTALL KnowSeq StartedAt: 2025-03-31 16:21:58 -0400 (Mon, 31 Mar 2025) EndedAt: 2025-03-31 16:23:01 -0400 (Mon, 31 Mar 2025) EllapsedTime: 62.8 seconds RetCode: 0 Status: OK