Package: KnowSeq Version: 1.20.0 Command: rm -rf KnowSeq.buildbin-libdir && mkdir KnowSeq.buildbin-libdir && /Users/biocbuild/BBS/utils/build-universal.sh KnowSeq_1.20.0.tar.gz /Library/Frameworks/R.framework/Resources/bin/R KnowSeq.buildbin-libdir StartedAt: 2025-04-01 12:07:53 -0400 (Tue, 01 Apr 2025) EndedAt: 2025-04-01 12:09:02 -0400 (Tue, 01 Apr 2025) EllapsedTime: 69.1 seconds RetCode: 0 Status: OK PackageFile: KnowSeq_1.20.0.tgz PackageFileSize: 6.593 MiB