Package: KinSwingR Version: 1.24.0 Command: /home/biocbuild/R/R/bin/R CMD build --keep-empty-dirs --no-resave-data KinSwingR StartedAt: 2025-02-04 00:32:18 -0000 (Tue, 04 Feb 2025) EndedAt: 2025-02-04 00:32:51 -0000 (Tue, 04 Feb 2025) EllapsedTime: 33.0 seconds RetCode: 0 Status: OK PackageFile: KinSwingR_1.24.0.tar.gz PackageFileSize: 631.3 KiB