Package: KEGGlincs Version: 1.32.0 Command: F:\biocbuild\bbs-3.20-bioc\R\bin\R.exe CMD check --no-multiarch --install=check:KEGGlincs.install-out.txt --library=F:\biocbuild\bbs-3.20-bioc\R\library --no-vignettes --timings KEGGlincs_1.32.0.tar.gz StartedAt: 2025-04-01 02:50:40 -0400 (Tue, 01 Apr 2025) EndedAt: 2025-04-01 02:55:19 -0400 (Tue, 01 Apr 2025) EllapsedTime: 278.2 seconds RetCode: 0 Status: OK CheckDir: KEGGlincs.Rcheck Warnings: 0