Package: KEGGlincs Version: 1.32.0 Command: chmod a+r KEGGlincs -R && F:\biocbuild\bbs-3.20-bioc\R\bin\R.exe CMD build --keep-empty-dirs --no-resave-data KEGGlincs StartedAt: 2025-03-31 19:48:10 -0400 (Mon, 31 Mar 2025) EndedAt: 2025-03-31 19:49:18 -0400 (Mon, 31 Mar 2025) EllapsedTime: 68.7 seconds RetCode: 0 Status: OK PackageFile: KEGGlincs_1.32.0.tar.gz PackageFileSize: 4.215 MiB