Package: KEGGlincs Version: 1.32.0 Command: /Library/Frameworks/R.framework/Resources/bin/R CMD INSTALL KEGGlincs StartedAt: 2025-03-31 15:29:12 -0400 (Mon, 31 Mar 2025) EndedAt: 2025-03-31 15:29:54 -0400 (Mon, 31 Mar 2025) EllapsedTime: 42.6 seconds RetCode: 0 Status: OK