Package: KEGGlincs Version: 1.32.0 Command: /Library/Frameworks/R.framework/Resources/bin/R CMD build --keep-empty-dirs --no-resave-data KEGGlincs StartedAt: 2025-01-27 19:59:45 -0500 (Mon, 27 Jan 2025) EndedAt: 2025-01-27 20:01:52 -0500 (Mon, 27 Jan 2025) EllapsedTime: 126.5 seconds RetCode: 0 Status: OK PackageFile: KEGGlincs_1.32.0.tar.gz PackageFileSize: 4.215 MiB