Package: KEGGlincs Version: 1.32.0 Command: /Library/Frameworks/R.framework/Resources/bin/R CMD check --install=check:KEGGlincs.install-out.txt --library=/Library/Frameworks/R.framework/Resources/library --no-vignettes --timings KEGGlincs_1.32.0.tar.gz StartedAt: 2025-04-01 23:02:56 -0400 (Tue, 01 Apr 2025) EndedAt: 2025-04-01 23:07:07 -0400 (Tue, 01 Apr 2025) EllapsedTime: 250.6 seconds RetCode: 0 Status: OK CheckDir: KEGGlincs.Rcheck Warnings: 0