Package: KEGGgraph Version: 1.66.0 Command: chmod a+r KEGGgraph -R && F:\biocbuild\bbs-3.20-bioc\R\bin\R.exe CMD build --keep-empty-dirs --no-resave-data KEGGgraph StartedAt: 2025-03-31 19:48:06 -0400 (Mon, 31 Mar 2025) EndedAt: 2025-03-31 19:49:05 -0400 (Mon, 31 Mar 2025) EllapsedTime: 58.7 seconds RetCode: 0 Status: OK PackageFile: KEGGgraph_1.66.0.tar.gz PackageFileSize: 1.303 MiB